BEGIN:VCALENDAR
VERSION:2.0
PRODID:-//Save Ontario Shipwrecks - ECPv6.15.20//NONSGML v1.0//EN
CALSCALE:GREGORIAN
METHOD:PUBLISH
X-ORIGINAL-URL:https://saveourshipwrecks.ca
X-WR-CALDESC:Events for Save Ontario Shipwrecks
REFRESH-INTERVAL;VALUE=DURATION:PT1H
X-Robots-Tag:noindex
X-PUBLISHED-TTL:PT1H
BEGIN:VTIMEZONE
TZID:America/Toronto
BEGIN:DAYLIGHT
TZOFFSETFROM:-0500
TZOFFSETTO:-0400
TZNAME:EDT
DTSTART:20210314T070000
END:DAYLIGHT
BEGIN:STANDARD
TZOFFSETFROM:-0400
TZOFFSETTO:-0500
TZNAME:EST
DTSTART:20211107T060000
END:STANDARD
BEGIN:DAYLIGHT
TZOFFSETFROM:-0500
TZOFFSETTO:-0400
TZNAME:EDT
DTSTART:20220313T070000
END:DAYLIGHT
BEGIN:STANDARD
TZOFFSETFROM:-0400
TZOFFSETTO:-0500
TZNAME:EST
DTSTART:20221106T060000
END:STANDARD
BEGIN:DAYLIGHT
TZOFFSETFROM:-0500
TZOFFSETTO:-0400
TZNAME:EDT
DTSTART:20230312T070000
END:DAYLIGHT
BEGIN:STANDARD
TZOFFSETFROM:-0400
TZOFFSETTO:-0500
TZNAME:EST
DTSTART:20231105T060000
END:STANDARD
END:VTIMEZONE
BEGIN:VEVENT
DTSTART;TZID=America/Toronto:20221022T120000
DTEND;TZID=America/Toronto:20221022T160000
DTSTAMP:20260421T071003
CREATED:20220928T192611Z
LAST-MODIFIED:20220928T193644Z
UID:25753-1666440000-1666454400@saveourshipwrecks.ca
SUMMARY:2022 Annual General Meeting
DESCRIPTION:2022 Annual General Meeting \nSaturday October 22\, 2022 \n  \nLocation: Holiday Inn Express & Suites Brockville \nTime: Noon to 4 pm \n  \nFollowing the business portion of the meeting (voting and election of the new Board) \nthere will be several exciting Shipwreck Presentations \nComplete agenda will follow soon \n  \n  \nNote: If you are interested in serving on the Board of Directors\, \nplease contact Durrell martin at durrell@saveontarioshipwrecks.ca \n  \nThank you to all of the Members for their dedication to the \nStudy\, Preservation and Promotion of Ontario’s Marine Heritage
URL:https://saveourshipwrecks.ca/event/2022-annual-general-meeting/
LOCATION:Brockville\, 7815 Kent Blvd\, Brockville\, K6V 6N7\, Canada
CATEGORIES:Barrie,Chapters,Durham/Northumberland,General,Hamilton,Huron Shores,Manitoulin,Meetings,Ottawa,Picton,Provincial,Provincial Executive,Superior,Thousand Islands,Toronto,Windsor
ATTACH;FMTTYPE=image/jpeg:https://saveourshipwrecks.ca/wp-content/uploads/2022/09/2022-AGM-Save-the-Date.jpg
END:VEVENT
END:VCALENDAR